BEGIN:VCALENDAR
VERSION:2.0
PRODID:-//The Arbour Heathcote - ECPv6.15.20//NONSGML v1.0//EN
CALSCALE:GREGORIAN
METHOD:PUBLISH
X-ORIGINAL-URL:https://www.thearbourheathcote.com.au
X-WR-CALDESC:Events for The Arbour Heathcote
REFRESH-INTERVAL;VALUE=DURATION:PT1H
X-Robots-Tag:noindex
X-PUBLISHED-TTL:PT1H
BEGIN:VTIMEZONE
TZID:Australia/Sydney
BEGIN:STANDARD
TZOFFSETFROM:+1100
TZOFFSETTO:+1000
TZNAME:AEST
DTSTART:20240406T160000
END:STANDARD
BEGIN:DAYLIGHT
TZOFFSETFROM:+1000
TZOFFSETTO:+1100
TZNAME:AEDT
DTSTART:20241005T160000
END:DAYLIGHT
BEGIN:STANDARD
TZOFFSETFROM:+1100
TZOFFSETTO:+1000
TZNAME:AEST
DTSTART:20250405T160000
END:STANDARD
BEGIN:DAYLIGHT
TZOFFSETFROM:+1000
TZOFFSETTO:+1100
TZNAME:AEDT
DTSTART:20251004T160000
END:DAYLIGHT
BEGIN:STANDARD
TZOFFSETFROM:+1100
TZOFFSETTO:+1000
TZNAME:AEST
DTSTART:20260404T160000
END:STANDARD
BEGIN:DAYLIGHT
TZOFFSETFROM:+1000
TZOFFSETTO:+1100
TZNAME:AEDT
DTSTART:20261003T160000
END:DAYLIGHT
BEGIN:STANDARD
TZOFFSETFROM:+1100
TZOFFSETTO:+1000
TZNAME:AEST
DTSTART:20270403T160000
END:STANDARD
BEGIN:DAYLIGHT
TZOFFSETFROM:+1000
TZOFFSETTO:+1100
TZNAME:AEDT
DTSTART:20271002T160000
END:DAYLIGHT
END:VTIMEZONE
BEGIN:VEVENT
DTSTART;TZID=Australia/Sydney:20260415T110000
DTEND;TZID=Australia/Sydney:20260415T120000
DTSTAMP:20260420T195805
CREATED:20260311T065628Z
LAST-MODIFIED:20260316T012141Z
UID:10019479-1776250800-1776254400@www.thearbourheathcote.com.au
SUMMARY:Joey Presto Magic Show
DESCRIPTION:Joey Presto Magic Show\nWednesday 15th of April \nA fantastic fun-filled show jam packed with magic\, comedy and that secret ingredient…\,you! \n11am – 12pm \n$5 per person \nNB. Adults are required to supervise children and purchase a ticket for themself. \nClick Here for Tickets
URL:https://www.thearbourheathcote.com.au/event/joey-presto-magic-show/
CATEGORIES:Entertainment,Featured Events,Special Events
ATTACH;FMTTYPE=image/jpeg:https://www.thearbourheathcote.com.au/wp-content/uploads/2026/03/500x400_Joey-Presto_Web-Tile.jpg
END:VEVENT
BEGIN:VEVENT
DTSTART;TZID=Australia/Sydney:20260329T100000
DTEND;TZID=Australia/Sydney:20260329T170000
DTSTAMP:20260420T195805
CREATED:20260317T095817Z
LAST-MODIFIED:20260318T034504Z
UID:10019751-1774778400-1774803600@www.thearbourheathcote.com.au
SUMMARY:$1\,000 Easter Egg Raffle
DESCRIPTION:Sunday 29th March \n$1\,000 worth of Easter goodies up for grabs packed with egg-citing prizes. \nOn sale 10am | Drawn 5pm
URL:https://www.thearbourheathcote.com.au/event/1000-easter-egg-and-meat-raffle-2/
CATEGORIES:Featured Events,Promotion & Raffles,Special Events
ATTACH;FMTTYPE=image/jpeg:https://www.thearbourheathcote.com.au/wp-content/uploads/2026/03/TAH_EasterRaffle_2026_500x400px.jpg
END:VEVENT
BEGIN:VEVENT
DTSTART;VALUE=DATE:20260315
DTEND;VALUE=DATE:20260316
DTSTAMP:20260420T195805
CREATED:20260211T011119Z
LAST-MODIFIED:20260213T015303Z
UID:10018408-1773532800-1773619199@www.thearbourheathcote.com.au
SUMMARY:Members FREE Footy Tipping
DESCRIPTION:$650 Bonus Points Prize Pool!\n\n1st Prize $300 points\n2nd Prize $200 points\n3rd Prize $150 points\n\n  \nTo enter\, simply swipe your members card at out Footy Tipping kiosk before kickoff of the first game in Round 1\n(Sunday 1st March | 11am). \n  \nTerms & Conditions apply. See Club Reception for further details.
URL:https://www.thearbourheathcote.com.au/event/members-free-footy-tipping-3/2026-03-15/
CATEGORIES:Bar & Sports,Featured Events,Special Events
ATTACH;FMTTYPE=image/jpeg:https://www.thearbourheathcote.com.au/wp-content/uploads/2026/02/TAH_NRL_FootyTipping_2026_WebTile.jpg
END:VEVENT
BEGIN:VEVENT
DTSTART;VALUE=DATE:20260313
DTEND;VALUE=DATE:20260314
DTSTAMP:20260420T195805
CREATED:20260213T015416Z
LAST-MODIFIED:20260213T034803Z
UID:10019472-1773360000-1773446399@www.thearbourheathcote.com.au
SUMMARY:Members FREE Footy Tipping
DESCRIPTION:$650 Bonus Points Prize Pool!\n\n1st Prize $300 points\n2nd Prize $200 points\n3rd Prize $150 points\n\n  \nTo enter\, simply swipe your members card at out Footy Tipping kiosk before kickoff of the first game in Round 1\n(Sunday 1st March | 11am). \n  \nTerms & Conditions apply. See Club Reception for further details.
URL:https://www.thearbourheathcote.com.au/event/members-free-footy-tipping-2-2/2026-03-13/
CATEGORIES:Bar & Sports,Featured Events,Special Events
ATTACH;FMTTYPE=image/jpeg:https://www.thearbourheathcote.com.au/wp-content/uploads/2026/02/TAH_NRL_FootyTipping_2026_WebTile.jpg
END:VEVENT
BEGIN:VEVENT
DTSTART;VALUE=DATE:20260222
DTEND;VALUE=DATE:20260223
DTSTAMP:20260420T195805
CREATED:20260212T063333Z
LAST-MODIFIED:20260212T063333Z
UID:10019466-1771718400-1771804799@www.thearbourheathcote.com.au
SUMMARY:Mario Barros v Ryan Garcia
DESCRIPTION:**Mario Barrios v Ryan Garcia – WBC Welterweight Championship** \nFrom 12pm Sunday 22nd February 2026 \nRyan Garcia who previously held interim gold at lightweight\, will bid to become a fully-fledged world champion when he boxes Mario Barrios\, who puts his WBC welterweight belt on the line in Las Vegas. \nBroadcasting LIVE Here!
URL:https://www.thearbourheathcote.com.au/event/mario-barros-v-ryan-garcia/2026-02-22/1/
CATEGORIES:Featured Events,Special Events
ATTACH;FMTTYPE=image/jpeg:https://www.thearbourheathcote.com.au/wp-content/uploads/2026/02/Ryan-Garcia-v-Mario-Barrios_Venue_800x600.jpg
END:VEVENT
BEGIN:VEVENT
DTSTART;TZID=Australia/Sydney:20260209T100000
DTEND;TZID=Australia/Sydney:20260209T170000
DTSTAMP:20260420T195805
CREATED:20250120T050102Z
LAST-MODIFIED:20260206T195039Z
UID:10017385-1770631200-1770656400@www.thearbourheathcote.com.au
SUMMARY:Superbowl Watch Party
DESCRIPTION:Join us for our first Superbowl Watch Party! Playing LIVE & LOUD in the sports bar \n\n$1 Wings*\n$15 Burgers\nBeer towers from $30\n\nOpen from 10am | Kick off 10.30am \n  \n*minimum order 10 wings \n 
URL:https://www.thearbourheathcote.com.au/event/lix-superbowl-watch-party/
CATEGORIES:Featured Events,Special Events
ATTACH;FMTTYPE=image/jpeg:https://www.thearbourheathcote.com.au/wp-content/uploads/2025/01/TheArbourHeathcote_SuperBowl_2026_WebTile.jpg
END:VEVENT
BEGIN:VEVENT
DTSTART;TZID=Australia/Sydney:20260125T170000
DTEND;TZID=Australia/Sydney:20260125T173000
DTSTAMP:20260420T195805
CREATED:20260107T041707Z
LAST-MODIFIED:20260107T041707Z
UID:10018315-1769360400-1769362200@www.thearbourheathcote.com.au
SUMMARY:Australia Day Weekend Raffle
DESCRIPTION:Sunday 25th January \n$1\,500 in prizes to be won including Outdoor/Summer items and Meat Trays \nTickets on sale 10am\, Drawn 5pm
URL:https://www.thearbourheathcote.com.au/event/australia-day-weekend-raffle/
CATEGORIES:Featured Events,Promotion & Raffles,Special Events
ATTACH;FMTTYPE=image/jpeg:https://www.thearbourheathcote.com.au/wp-content/uploads/2026/01/TAH_AustraliaDayWeekendRaffle_2026_WebTile.jpg
END:VEVENT
BEGIN:VEVENT
DTSTART;TZID=Australia/Sydney:20260124T204500
DTEND;TZID=Australia/Sydney:20260124T233000
DTSTAMP:20260420T195805
CREATED:20260107T031312Z
LAST-MODIFIED:20260107T031312Z
UID:10018314-1769287500-1769297400@www.thearbourheathcote.com.au
SUMMARY:Blink182 Tribute Show
DESCRIPTION:Get ready to relive the pop-punk glory days! Join us for an electrifying night celebrating the iconic sounds of Blink-182. From All the Small Things to What’s My Age Again?\, this tribute band will have you singing\, jumping\, and feeling all the nostalgia. \n📅 Date: Saturday 24th January\, Doors open 8:45pm\n🎟 Tickets: $10 per person and includes a FREE standard drink.\nPurchase your ticket here\n\nDon’t miss out on the ultimate throwback party—grab your friends and let’s make it a night to remember!
URL:https://www.thearbourheathcote.com.au/event/blink182-tribute-show/
CATEGORIES:Entertainment,Featured Events,Special Events
ATTACH;FMTTYPE=image/jpeg:https://www.thearbourheathcote.com.au/wp-content/uploads/2026/01/TAH_Blink182_TributeShow_2025_Resizes_WebTile.jpg
END:VEVENT
BEGIN:VEVENT
DTSTART;TZID=Australia/Sydney:20260116T190000
DTEND;TZID=Australia/Sydney:20260116T220000
DTSTAMP:20260420T195805
CREATED:20251219T040619Z
LAST-MODIFIED:20251219T040807Z
UID:10018309-1768590000-1768600800@www.thearbourheathcote.com.au
SUMMARY:Nikita Tszyu v Michael Zerafa
DESCRIPTION:Nikita Tszyu v Michael Zerafa\nWBO International Middleweight Title \nNikita Tszyu steps into the ring to face Michael Zerafa in one of the most anticipated fights in Australian boxing history. Broadcasting LIVE from Brisbane Entertainment Centre. \nFrom 6pm Friday 16th January 2025
URL:https://www.thearbourheathcote.com.au/event/nikita-tszyu-v-michael-zerafa/2026-01-16/
CATEGORIES:Featured Events,Special Events
ATTACH;FMTTYPE=image/jpeg:https://www.thearbourheathcote.com.au/wp-content/uploads/2025/12/N-Tszyu-v-Zerafa_Venue_500x400.jpg
END:VEVENT
BEGIN:VEVENT
DTSTART;TZID=Australia/Sydney:20251231T203000
DTEND;TZID=Australia/Sydney:20260101T003000
DTSTAMP:20260420T195805
CREATED:20251211T071925Z
LAST-MODIFIED:20251211T072723Z
UID:10018304-1767213000-1767227400@www.thearbourheathcote.com.au
SUMMARY:CELEBRATE NYE RETRO STYLE
DESCRIPTION:Wednesday 31st December\n8:30pm – 12:30am\nFREE EVENT \nWith DJ GAZZA\nPlaying all your favourite 70’s\, 80’s\, 90’s and 00’s through to the countdown!
URL:https://www.thearbourheathcote.com.au/event/celebrate-nye-retro-style/
CATEGORIES:Entertainment,Featured Events,Special Events
ATTACH;FMTTYPE=image/jpeg:https://www.thearbourheathcote.com.au/wp-content/uploads/2025/12/TAH_NewYearsEve_2025_WebSlide.jpg
END:VEVENT
BEGIN:VEVENT
DTSTART;TZID=Australia/Sydney:20251227T200000
DTEND;TZID=Australia/Sydney:20251227T230000
DTSTAMP:20260420T195805
CREATED:20251007T231011Z
LAST-MODIFIED:20251206T001403Z
UID:10017953-1766865600-1766876400@www.thearbourheathcote.com.au
SUMMARY:James Englund
DESCRIPTION:Join us from 8pm in the main lounge to hear all your favourite tunes by James Englund
URL:https://www.thearbourheathcote.com.au/event/james-englund/
CATEGORIES:Entertainment,Featured Events
ATTACH;FMTTYPE=image/png:https://www.thearbourheathcote.com.au/wp-content/uploads/2025/10/Entertainment_Webslides-13.png
END:VEVENT
BEGIN:VEVENT
DTSTART;TZID=Australia/Sydney:20251221T170000
DTEND;TZID=Australia/Sydney:20251221T183000
DTSTAMP:20260420T195805
CREATED:20251128T052746Z
LAST-MODIFIED:20251212T085545Z
UID:10018306-1766336400-1766341800@www.thearbourheathcote.com.au
SUMMARY:Christmas Ham Raffles
DESCRIPTION:Win One of 30 Delicious Half-Leg Hams!Join us on Sunday 7th\, 14th & 21st December for your chance to take home the perfect Christmas ham.Tickets on sale from 10am | Draws from 5pm
URL:https://www.thearbourheathcote.com.au/event/christmas-ham-raffles-2/2025-12-21/
CATEGORIES:Featured Events,Promotion & Raffles,Special Events
ATTACH;FMTTYPE=image/jpeg:https://www.thearbourheathcote.com.au/wp-content/uploads/2024/11/Club-Engadine_The-Arbour_Ham-Raffles_09_Web-Slide.jpg
END:VEVENT
BEGIN:VEVENT
DTSTART;TZID=Australia/Sydney:20251220T200000
DTEND;TZID=Australia/Sydney:20251220T230000
DTSTAMP:20260420T195805
CREATED:20251206T000833Z
LAST-MODIFIED:20251206T001340Z
UID:10018089-1766260800-1766271600@www.thearbourheathcote.com.au
SUMMARY:Vanessa Heinitz
DESCRIPTION:Join us from 8pm in the main lounge to hear all your favourite tunes by James Englund
URL:https://www.thearbourheathcote.com.au/event/vanessa-heinitz/
CATEGORIES:Entertainment,Featured Events
ATTACH;FMTTYPE=image/jpeg:https://www.thearbourheathcote.com.au/wp-content/uploads/2025/12/Entertainment_Webslides.jpg
END:VEVENT
BEGIN:VEVENT
DTSTART;VALUE=DATE:20251217
DTEND;VALUE=DATE:20251218
DTSTAMP:20260420T195805
CREATED:20251108T233958Z
LAST-MODIFIED:20251109T232748Z
UID:10018056-1765929600-1766015999@www.thearbourheathcote.com.au
SUMMARY:Keys to Societie Member's Promotion
DESCRIPTION:$30\,000 in cash to be won!\n\nSwipe daily at the kiosk from Monday 10th November until Wednesday 17th December to receive VIRTUAL entries! \nPLUS Receive a BONUS entry every Monday-Wednesday! \n**Important Information – No paper entries will be issued in this promotion** \nMinor Draws \n\n7:30pm\, 8pm & 8:30pm Wednesday 19th & 26th November and 3rd & 10th December 2025\n\n1 Key for the Major Draw + $300 cash to be won weekly at each Societie Group venue\n(Ramsgate RSL\, The Arbour Heathcote\, Fingal Bay Sports Club & Club & Engadine RSL) \nMajor Draw \nHeld at Ramsgate RSL with LIVE Broadcast from all Societie Group venues \n\nFrom 7:30pm 17th December 2025\n\n1 final Key to be won at each venue prior to the major prize giveaway PLUS 1 x $20\,000 cash prize and 23 x $250 cash runner-up prizes to be won! \nYou must be present at the draws for the chance to win. \nTerms & Conditions apply and are available on request from Club Reception at each Societie Group venue. \nThis Promotion is part of the Societie Rewards loyalty program.\nHelp is close at hand. Call GambleAware 1800 858 858. www.gambleware.nsw.gov.au\nPlayer activity statements are available on request.
URL:https://www.thearbourheathcote.com.au/event/keys-to-societie-members-promotion/2025-12-17/
CATEGORIES:Featured Events,Promotion & Raffles,Special Events
ATTACH;FMTTYPE=image/jpeg:https://www.thearbourheathcote.com.au/wp-content/uploads/2025/11/Ramsgate_KeysToSocietie_Resizes_2025_500x400px.jpg
END:VEVENT
BEGIN:VEVENT
DTSTART;TZID=Australia/Sydney:20251213T200000
DTEND;TZID=Australia/Sydney:20251213T230000
DTSTAMP:20260420T195805
CREATED:20241223T230322Z
LAST-MODIFIED:20251206T000245Z
UID:10017371-1765656000-1765666800@www.thearbourheathcote.com.au
SUMMARY:Craig Woodward
DESCRIPTION:‘The city boy with the country soul’. Craig is an Australian born modern country/pop/rock artist that you wont want to miss!
URL:https://www.thearbourheathcote.com.au/event/craig-woodward-3/
CATEGORIES:Entertainment,Featured Events
ATTACH;FMTTYPE=image/png:https://www.thearbourheathcote.com.au/wp-content/uploads/2024/10/43.png
END:VEVENT
BEGIN:VEVENT
DTSTART;TZID=Australia/Sydney:20251206T200000
DTEND;TZID=Australia/Sydney:20251206T230000
DTSTAMP:20260420T195805
CREATED:20241223T230652Z
LAST-MODIFIED:20251206T000129Z
UID:10017373-1765051200-1765062000@www.thearbourheathcote.com.au
SUMMARY:Shim
DESCRIPTION:Join Shim in the main lounge from 8pm playing all your favourites!
URL:https://www.thearbourheathcote.com.au/event/steve-g-2/
CATEGORIES:Entertainment,Featured Events
ATTACH;FMTTYPE=image/png:https://www.thearbourheathcote.com.au/wp-content/uploads/2024/12/Shim.png
END:VEVENT
BEGIN:VEVENT
DTSTART;TZID=Australia/Sydney:20251122T110000
DTEND;TZID=Australia/Sydney:20251122T130000
DTSTAMP:20260420T195805
CREATED:20251029T015037Z
LAST-MODIFIED:20251029T015142Z
UID:10018018-1763809200-1763816400@www.thearbourheathcote.com.au
SUMMARY:Bottomless Brunch
DESCRIPTION:Gather your friends and indulge in two hours of pure weekend bliss at our Bottomless Brunch! Enjoy a curated selection of shared plates and sip on a continuous flow of drinks while soaking up the vibrant atmosphere and leafy surrounds. \nWhether you’re planning an early Xmas catchup\, birthday\, or just a fabulous weekend outing\, Bottomless Brunch at The Arbour Heathcote is your go-to for good food\, great company\, and unforgettable vibes. \n$85 per person | Includes food & drinks (wine\, sparkling & selected cocktails) & live music \nBookings essential – limited spots available!
URL:https://www.thearbourheathcote.com.au/event/bottomless-brunch/
CATEGORIES:Featured Events,Special Events
ATTACH;FMTTYPE=image/jpeg:https://www.thearbourheathcote.com.au/wp-content/uploads/2025/10/TAH_BottomlessBrunch_2025_WebTile.jpg
END:VEVENT
BEGIN:VEVENT
DTSTART;VALUE=DATE:20251104
DTEND;VALUE=DATE:20251105
DTSTAMP:20260420T195805
CREATED:20251008T093158Z
LAST-MODIFIED:20251013T035943Z
UID:10017954-1762214400-1762300799@www.thearbourheathcote.com.au
SUMMARY:Melbourne Cup
DESCRIPTION:Join us for Melbourne Cup! \n\nLive music from 12pm – 3pm\nOliver St Kitchen specials\nSweeps\nGlass of bubbly on arrival for our lunch bookings\nRaces on the big screen\nBest Dressed & Lucky Door Prizes\n\nBook your table today \nMake A Reservation \n  \n 
URL:https://www.thearbourheathcote.com.au/event/melbourne-cup-2/
CATEGORIES:Entertainment,Featured Events,Special Events
ATTACH;FMTTYPE=image/png:https://www.thearbourheathcote.com.au/wp-content/uploads/2025/10/Entertainment_Webslides-9.png
END:VEVENT
BEGIN:VEVENT
DTSTART;TZID=Australia/Sydney:20251011T193000
DTEND;TZID=Australia/Sydney:20251011T223000
DTSTAMP:20260420T195805
CREATED:20240722T125108Z
LAST-MODIFIED:20251007T230450Z
UID:10011815-1760211000-1760221800@www.thearbourheathcote.com.au
SUMMARY:Jenny Lang
DESCRIPTION:FREE Live Music in the Main Lounge from 7.30pm\, join us for an evening of fantastic live entertainment with Jenny Lang!
URL:https://www.thearbourheathcote.com.au/event/jenny-lang/
CATEGORIES:Entertainment,Featured Events
ATTACH;FMTTYPE=image/png:https://www.thearbourheathcote.com.au/wp-content/uploads/2024/07/Entertainment_Webslides-8.png
END:VEVENT
BEGIN:VEVENT
DTSTART;TZID=Australia/Sydney:20251004T210000
DTEND;TZID=Australia/Sydney:20251004T233000
DTSTAMP:20260420T195805
CREATED:20250816T010727Z
LAST-MODIFIED:20250818T040208Z
UID:10017951-1759611600-1759620600@www.thearbourheathcote.com.au
SUMMARY:Fleetwood Nicks - FREE SHOW
DESCRIPTION:This quality show is a blend of songs from the unique and charismatic Fleetwood Mac and a taste of Stevie Nicks solo hits. \nJoin us as Fleetwood Nicks bring you this nostalgic and entertaining tribute to a band whose music and indelible presence has lasted through the decades and whose songs are forever imprinted on our minds. \nFREE SHOW!  \nBook today to secure your table \nBook your Table \n 
URL:https://www.thearbourheathcote.com.au/event/fleetwood-nicks-free-show/
CATEGORIES:Entertainment,Featured Events,Special Events
ATTACH;FMTTYPE=image/png:https://www.thearbourheathcote.com.au/wp-content/uploads/2025/08/and-FRetro-1200-x-600-px-1.png
END:VEVENT
BEGIN:VEVENT
DTSTART;TZID=Australia/Sydney:20250919T200000
DTEND;TZID=Australia/Sydney:20250919T220000
DTSTAMP:20260420T195805
CREATED:20250816T010058Z
LAST-MODIFIED:20250822T035213Z
UID:10017950-1758312000-1758319200@www.thearbourheathcote.com.au
SUMMARY:Drag Bingo with Charlamaine
DESCRIPTION:Join the fabulous Charlamaine for Drag Bingo! \nWith incredible prizes and totally terrific performances – you’ll understand why this is a night not to be missed! And the best part? Bingo is completely FREE to play! \nDining with us? Book in at any time ready for a 8pm bingo start! \nTo secure your seat book your table through our website! \nBook your Table \n  \nPlease note; this is an 18+ only Event.
URL:https://www.thearbourheathcote.com.au/event/drag-bingo-with-charlamaine/
CATEGORIES:Bingo & Cash Housie,Entertainment,Featured Events,Special Events
ATTACH;FMTTYPE=image/jpeg:https://www.thearbourheathcote.com.au/wp-content/uploads/2025/08/TheArbour_DragBingo_2025_WebBanner.jpg
END:VEVENT
BEGIN:VEVENT
DTSTART;VALUE=DATE:20250907
DTEND;VALUE=DATE:20250908
DTSTAMP:20260420T195805
CREATED:20250828T043442Z
LAST-MODIFIED:20250828T043442Z
UID:10017952-1757203200-1757289599@www.thearbourheathcote.com.au
SUMMARY:Father's Day
DESCRIPTION:Treat Dad this Father’s Day with a delicious Lunch or Dinner at Oliver St Kitchen. \nAs a special gift\, every dad dining with us will receive a FREE The Arbour Heathcote stubby holder – the perfect little extra to make his day. \nMake this Father’s Day one to remember – book your table today! \n  \nMake A Reservation \n 
URL:https://www.thearbourheathcote.com.au/event/fathers-day/
CATEGORIES:Featured Events,Special Events
ATTACH;FMTTYPE=image/jpeg:https://www.thearbourheathcote.com.au/wp-content/uploads/2025/08/TAH_FathersDay_2025_WebSlide.jpg
END:VEVENT
BEGIN:VEVENT
DTSTART;TZID=Australia/Sydney:20250719T173000
DTEND;TZID=Australia/Sydney:20250719T213000
DTSTAMP:20260420T195805
CREATED:20250702T033638Z
LAST-MODIFIED:20250702T050726Z
UID:10017945-1752946200-1752960600@www.thearbourheathcote.com.au
SUMMARY:Christmas In July
DESCRIPTION:Saturday 19th July | From 6.30pm | Main Lounge \nGet into the festive spirit with a mid-year celebration full of cheer\, delicious food\, and live entertainment! \nSpence & Ange LIVE from 6.30pm – the perfect soundtrack for a cosy winter night. \nChristmas Special at Oliver St Kitchen \nEnjoy a traditional Roast Turkey & Ham served with roast potatoes\, pumpkin\, steamed seasonal vegetables\, and finished with a classic Christmas Pudding. \nMembers $33 | Guests $35 \nGather your friends & family and book your table today – this is one Christmas feast you won’t want to miss \nMake A Reservation\nPlease note; our normal menu is also available
URL:https://www.thearbourheathcote.com.au/event/christmas-in-july/
CATEGORIES:Featured Events,Special Events
END:VEVENT
BEGIN:VEVENT
DTSTART;TZID=Australia/Sydney:20250716T180000
DTEND;TZID=Australia/Sydney:20250716T210000
DTSTAMP:20260420T195805
CREATED:20250706T060810Z
LAST-MODIFIED:20250706T061523Z
UID:10017949-1752688800-1752699600@www.thearbourheathcote.com.au
SUMMARY:Paul Gallen vs Sonny Bill Williams
DESCRIPTION:After 10 years of talk\, the score will be settled in the ring. \nA long-time fantasy match up\, it was confirmed today that dual-code superstar Sonny Bill Williams will box former league international Paul Gallen in eight\, two-minute rounds. \nBroadcasting LIVE from 6pm\, Wednesday 16th July
URL:https://www.thearbourheathcote.com.au/event/paul-gallen-vs-sonny-bill-williams/2025-07-16/
CATEGORIES:Featured Events,Special Events
END:VEVENT
BEGIN:VEVENT
DTSTART;TZID=Australia/Sydney:20250708T103000
DTEND;TZID=Australia/Sydney:20250708T113000
DTSTAMP:20260420T195805
CREATED:20250604T054428Z
LAST-MODIFIED:20250702T033920Z
UID:10017941-1751970600-1751974200@www.thearbourheathcote.com.au
SUMMARY:Matt Falloon Balloon Show
DESCRIPTION:Watch Matt as he blows\, twists and pops his way through a hilarious performance\, building up to his grand finale where he manages to climb completely inside a giant balloon! \nTickets only $5 per person! \nAffordable School Holiday Fun! \n  \nBOOK NOW \n 
URL:https://www.thearbourheathcote.com.au/event/matt-falloon-balloon-show/
CATEGORIES:Entertainment,Featured Events,Special Events
END:VEVENT
BEGIN:VEVENT
DTSTART;TZID=Australia/Sydney:20250629T130000
DTEND;TZID=Australia/Sydney:20250629T160000
DTSTAMP:20260420T195805
CREATED:20250523T025553Z
LAST-MODIFIED:20250624T021457Z
UID:10017933-1751202000-1751212800@www.thearbourheathcote.com.au
SUMMARY:Footy Roadshow
DESCRIPTION:Join us for an unforgettable afternoon of footy insights\, laughs\, and legends at our Footy Roadshow! Hear from former NRL stars Todd Carney and Wade Graham\, alongside top Rugby League journalist Michael Chammas\, as they break down the game\, share behind-the-scenes stories\, and talk all things footy. \n1pm – 2pm: Pre-game discussion & interaction\n2pm – Sharks vs Storm\n2.50pm – 3.05pm: Half time discussion & interaction\n4pm – 4.15pm: Full time discussion & interaction\nLimited seating available. Book your FREE table online today\, enjoy some great bites from Oliver Street Kitchen and sit back and enjoy the afternoon! \nMake A Reservation
URL:https://www.thearbourheathcote.com.au/event/footy-roadshow/
CATEGORIES:Bar & Sports,Featured Events,Special Events
END:VEVENT
BEGIN:VEVENT
DTSTART;VALUE=DATE:20250622
DTEND;VALUE=DATE:20250623
DTSTAMP:20260420T195805
CREATED:20250520T010932Z
LAST-MODIFIED:20250604T060306Z
UID:10017932-1750550400-1750636799@www.thearbourheathcote.com.au
SUMMARY:State of Origin Beverage Promotion
DESCRIPTION:Win a Diamond Night for Two Worth $1\,500!\n19th May-22nd June 2025 \nSimply spend $10 at any bar and receive an entry for the chance to win. \nDrawn Monday 23rd June 2025 \n  \nTerms & Conditions apply. See Club Reception for further details. Members only. \nWinner does not need to be present at the draw and will be contacted by telephone within 2 days of the draw. \nThe Promotion is available to Members of the Societie Group of venues. \nSocietie Group practices the responsible service of alcohol.
URL:https://www.thearbourheathcote.com.au/event/state-of-origin-beverage-promotion/2025-06-22/
CATEGORIES:Bar & Sports,Featured Events,Promotion & Raffles,Special Events
END:VEVENT
BEGIN:VEVENT
DTSTART;VALUE=DATE:20250604
DTEND;VALUE=DATE:20250605
DTSTAMP:20260420T195805
CREATED:20250527T005828Z
LAST-MODIFIED:20250604T060212Z
UID:10017943-1748995200-1749081599@www.thearbourheathcote.com.au
SUMMARY:National Reconciliation Week 2025
DESCRIPTION:**National Reconciliation Week – 27th May-3rd June 2025**\n\nA time for all Australians to learn about our shared histories\, cultures\, and achievements\, and to explore how each of us can contribute to achieving reconciliation in Australia.\n\n\n\nWe’re showing our support by displaying the artwork by Bree Buttenshaw that was created for the 2025 theme of Bridging Now to Next – reflecting the ongoing connection between past\, present and future.
URL:https://www.thearbourheathcote.com.au/event/national-reconciliation-week-2025/2025-06-04/
CATEGORIES:Featured Events,Special Events
ATTACH;FMTTYPE=image/jpeg:https://www.thearbourheathcote.com.au/wp-content/uploads/2025/05/500x400_Web-Tile.jpg
END:VEVENT
BEGIN:VEVENT
DTSTART;VALUE=DATE:20250511
DTEND;VALUE=DATE:20250512
DTSTAMP:20260420T195805
CREATED:20250407T053804Z
LAST-MODIFIED:20250407T053804Z
UID:10017898-1746921600-1747007999@www.thearbourheathcote.com.au
SUMMARY:Mothers Day
DESCRIPTION:Celebrate Mum this Mother’s Day with us! Complimentary glass of bubbles for Mum with every booking! \n  \nWe will be open for Lunch & Dinner \n\nLunch bookings; 11am & 1pm\nDinner bookings; 5.30pm & 7.15pm\n\nBookings Essential The Arbour Heathcote \n  \nDon’t miss out\, Book today! \n  \n 
URL:https://www.thearbourheathcote.com.au/event/mothers-day/
CATEGORIES:Featured Events,Special Events
END:VEVENT
BEGIN:VEVENT
DTSTART;TZID=Australia/Sydney:20250425T053000
DTEND;TZID=Australia/Sydney:20250425T160000
DTSTAMP:20260420T195805
CREATED:20250401T044325Z
LAST-MODIFIED:20250401T045918Z
UID:10017897-1745559000-1745596800@www.thearbourheathcote.com.au
SUMMARY:Anzac Day
DESCRIPTION:After missing last years’ service due to renovations\, we are excited to be holding our Anzac Day service again.\n\n5.30am – Dawn Service8am – 12pm – Two Up in the main lounge4pm – Dragons v Roosters Live & Loud in the sports bar & on the big screen
URL:https://www.thearbourheathcote.com.au/event/anzac-day/
CATEGORIES:Featured Events,Special Events
END:VEVENT
END:VCALENDAR